BEGIN:VCALENDAR
VERSION:2.0
PRODID:-//Site de la commune de Moussy Le Vieux - ECPv5.0.0.2//NONSGML v1.0//EN
CALSCALE:GREGORIAN
METHOD:PUBLISH
X-WR-CALNAME:Site de la commune de Moussy Le Vieux
X-ORIGINAL-URL:https://www.moussy-le-vieux.fr
X-WR-CALDESC:Évènements pour Site de la commune de Moussy Le Vieux
BEGIN:VTIMEZONE
TZID:Europe/Paris
BEGIN:DAYLIGHT
TZOFFSETFROM:+0100
TZOFFSETTO:+0200
TZNAME:CEST
DTSTART:20260329T010000
END:DAYLIGHT
BEGIN:STANDARD
TZOFFSETFROM:+0200
TZOFFSETTO:+0100
TZNAME:CET
DTSTART:20261025T010000
END:STANDARD
END:VTIMEZONE
BEGIN:VEVENT
DTSTART;VALUE=DATE:20260331
DTEND;VALUE=DATE:20260401
DTSTAMP:20260422T102011
CREATED:20260322T145920Z
LAST-MODIFIED:20260322T145920Z
UID:19917-1774915200-1775001599@www.moussy-le-vieux.fr
SUMMARY:Café littéraire
DESCRIPTION:20h15 \n
URL:https://www.moussy-le-vieux.fr/evenement/cafe-litteraire-16/
LOCATION:Salle Brassens\, rue du puits d'affetet\, Moussy le Vieux\, 77230\, France
END:VEVENT
BEGIN:VEVENT
DTSTART;VALUE=DATE:20260404
DTEND;VALUE=DATE:20260405
DTSTAMP:20260422T102011
CREATED:20260227T123609Z
LAST-MODIFIED:20260227T125707Z
UID:19819-1775260800-1775347199@www.moussy-le-vieux.fr
SUMMARY:Chasse aux œufs de Pâques
DESCRIPTION:de 10h à 12h30 \n
URL:https://www.moussy-le-vieux.fr/evenement/chasse-aux-oeufs-de-paques-3/
LOCATION:Stade
END:VEVENT
BEGIN:VEVENT
DTSTART;VALUE=DATE:20260410
DTEND;VALUE=DATE:20260411
DTSTAMP:20260422T102011
CREATED:20260322T161512Z
LAST-MODIFIED:20260322T161512Z
UID:19920-1775779200-1775865599@www.moussy-le-vieux.fr
SUMMARY:Soirée jeux de société
DESCRIPTION:à 20h30 \n
URL:https://www.moussy-le-vieux.fr/evenement/soiree-jeux-de-societe-2/
LOCATION:Salle Brassens\, rue du puits d'affetet\, Moussy le Vieux\, 77230\, France
END:VEVENT
BEGIN:VEVENT
DTSTART;VALUE=DATE:20260414
DTEND;VALUE=DATE:20260415
DTSTAMP:20260422T102011
CREATED:20260407T214053Z
LAST-MODIFIED:20260407T215112Z
UID:20030-1776124800-1776211199@www.moussy-le-vieux.fr
SUMMARY:Conseil municipal
DESCRIPTION:19h00 \n
URL:https://www.moussy-le-vieux.fr/evenement/conseil-municipal-40/
LOCATION:Mairie\, Place Marcel Hatier\, MOUSSY LE VIEUX\, 77230\, France
END:VEVENT
BEGIN:VEVENT
DTSTART;VALUE=DATE:20260420
DTEND;VALUE=DATE:20260421
DTSTAMP:20260422T102011
CREATED:20260416T095646Z
LAST-MODIFIED:20260416T095646Z
UID:20063-1776643200-1776729599@www.moussy-le-vieux.fr
SUMMARY:Sophrologie
DESCRIPTION:de 10h30 à 11h30 \n
URL:https://www.moussy-le-vieux.fr/evenement/sophrologie-24/
LOCATION:Salle Brassens\, rue du puits d'affetet\, Moussy le Vieux\, 77230\, France
END:VEVENT
BEGIN:VEVENT
DTSTART;VALUE=DATE:20260421
DTEND;VALUE=DATE:20260422
DTSTAMP:20260422T102011
CREATED:20260416T080354Z
LAST-MODIFIED:20260416T080354Z
UID:20057-1776729600-1776815999@www.moussy-le-vieux.fr
SUMMARY:Fermeture de l'Agence Postale
DESCRIPTION:
URL:https://www.moussy-le-vieux.fr/evenement/fermeture-de-lagence-postale-8/
END:VEVENT
BEGIN:VEVENT
DTSTART;VALUE=DATE:20260422
DTEND;VALUE=DATE:20260423
DTSTAMP:20260422T102011
CREATED:20260416T102120Z
LAST-MODIFIED:20260416T102259Z
UID:20067-1776816000-1776902399@www.moussy-le-vieux.fr
SUMMARY:Danse de l'Orient
DESCRIPTION:de 10h à 13h \n
URL:https://www.moussy-le-vieux.fr/evenement/danse-orientale/
LOCATION:Salle Brassens\, rue du puits d'affetet\, Moussy le Vieux\, 77230\, France
END:VEVENT
BEGIN:VEVENT
DTSTART;VALUE=DATE:20260428
DTEND;VALUE=DATE:20260429
DTSTAMP:20260422T102011
CREATED:20260420T154935Z
LAST-MODIFIED:20260420T154935Z
UID:20156-1777334400-1777420799@www.moussy-le-vieux.fr
SUMMARY:Retransmission match Ligue des Champions
DESCRIPTION:à partir de 20h00 \n
URL:https://www.moussy-le-vieux.fr/evenement/retransmission-match-ligue-des-champions/
LOCATION:Boulangerie Moussy le Vieux
END:VEVENT
BEGIN:VEVENT
DTSTART;VALUE=DATE:20260502
DTEND;VALUE=DATE:20260503
DTSTAMP:20260422T102011
CREATED:20260407T225238Z
LAST-MODIFIED:20260407T225238Z
UID:20035-1777680000-1777766399@www.moussy-le-vieux.fr
SUMMARY:Fermeture de la Mairie
DESCRIPTION:
URL:https://www.moussy-le-vieux.fr/evenement/fermeture-de-la-mairie-7/
END:VEVENT
END:VCALENDAR