BEGIN:VCALENDAR
VERSION:2.0
PRODID:-//Site de la commune de Moussy Le Vieux - ECPv5.0.0.2//NONSGML v1.0//EN
CALSCALE:GREGORIAN
METHOD:PUBLISH
X-WR-CALNAME:Site de la commune de Moussy Le Vieux
X-ORIGINAL-URL:https://www.moussy-le-vieux.fr
X-WR-CALDESC:Évènements pour Site de la commune de Moussy Le Vieux
BEGIN:VTIMEZONE
TZID:Europe/Paris
BEGIN:DAYLIGHT
TZOFFSETFROM:+0100
TZOFFSETTO:+0200
TZNAME:CEST
DTSTART:20240331T010000
END:DAYLIGHT
BEGIN:STANDARD
TZOFFSETFROM:+0200
TZOFFSETTO:+0100
TZNAME:CET
DTSTART:20241027T010000
END:STANDARD
END:VTIMEZONE
BEGIN:VEVENT
DTSTART;VALUE=DATE:20241118
DTEND;VALUE=DATE:20241119
DTSTAMP:20260422T084651
CREATED:20241024T114328Z
LAST-MODIFIED:20241024T114328Z
UID:17415-1731888000-1731974399@www.moussy-le-vieux.fr
SUMMARY:Après-midi jeux de société
DESCRIPTION:de 14h à 17h \n
URL:https://www.moussy-le-vieux.fr/evenement/apres-midi-jeux-de-societe-8/
LOCATION:Salle Brassens\, rue du puits d'affetet\, Moussy le Vieux\, 77230\, France
END:VEVENT
END:VCALENDAR