BEGIN:VCALENDAR
VERSION:2.0
PRODID:-//Site de la commune de Moussy Le Vieux - ECPv5.0.0.2//NONSGML v1.0//EN
CALSCALE:GREGORIAN
METHOD:PUBLISH
X-WR-CALNAME:Site de la commune de Moussy Le Vieux
X-ORIGINAL-URL:https://www.moussy-le-vieux.fr
X-WR-CALDESC:Évènements pour Site de la commune de Moussy Le Vieux
BEGIN:VTIMEZONE
TZID:Europe/Paris
BEGIN:DAYLIGHT
TZOFFSETFROM:+0100
TZOFFSETTO:+0200
TZNAME:CEST
DTSTART:20220327T010000
END:DAYLIGHT
BEGIN:STANDARD
TZOFFSETFROM:+0200
TZOFFSETTO:+0100
TZNAME:CET
DTSTART:20221030T010000
END:STANDARD
END:VTIMEZONE
BEGIN:VEVENT
DTSTART;VALUE=DATE:20221119
DTEND;VALUE=DATE:20221120
DTSTAMP:20260423T005407
CREATED:20221107T105333Z
LAST-MODIFIED:20221107T105333Z
UID:12375-1668816000-1668902399@www.moussy-le-vieux.fr
SUMMARY:Concours de belote
DESCRIPTION:à 14 h 00 \n
URL:https://www.moussy-le-vieux.fr/evenement/concours-de-belote-2/
LOCATION:Salle Brassens\, rue du puits d'affetet\, Moussy le Vieux\, 77230\, France
CATEGORIES:Animation
END:VEVENT
END:VCALENDAR