BEGIN:VCALENDAR
VERSION:2.0
PRODID:-//Site de la commune de Moussy Le Vieux - ECPv5.0.0.2//NONSGML v1.0//EN
CALSCALE:GREGORIAN
METHOD:PUBLISH
X-WR-CALNAME:Site de la commune de Moussy Le Vieux
X-ORIGINAL-URL:https://www.moussy-le-vieux.fr
X-WR-CALDESC:Évènements pour Site de la commune de Moussy Le Vieux
BEGIN:VTIMEZONE
TZID:Europe/Paris
BEGIN:DAYLIGHT
TZOFFSETFROM:+0100
TZOFFSETTO:+0200
TZNAME:CEST
DTSTART:20260329T010000
END:DAYLIGHT
BEGIN:STANDARD
TZOFFSETFROM:+0200
TZOFFSETTO:+0100
TZNAME:CET
DTSTART:20261025T010000
END:STANDARD
END:VTIMEZONE
BEGIN:VEVENT
DTSTART;VALUE=DATE:20260414
DTEND;VALUE=DATE:20260415
DTSTAMP:20260423T083832
CREATED:20260407T214053Z
LAST-MODIFIED:20260407T215112Z
UID:20030-1776124800-1776211199@www.moussy-le-vieux.fr
SUMMARY:Conseil municipal
DESCRIPTION:19h00 \n
URL:https://www.moussy-le-vieux.fr/evenement/conseil-municipal-40/
LOCATION:Mairie\, Place Marcel Hatier\, MOUSSY LE VIEUX\, 77230\, France
END:VEVENT
END:VCALENDAR