BEGIN:VCALENDAR
VERSION:2.0
PRODID:-//Site de la commune de Moussy Le Vieux - ECPv5.0.0.2//NONSGML v1.0//EN
CALSCALE:GREGORIAN
METHOD:PUBLISH
X-WR-CALNAME:Site de la commune de Moussy Le Vieux
X-ORIGINAL-URL:https://www.moussy-le-vieux.fr
X-WR-CALDESC:Évènements pour Site de la commune de Moussy Le Vieux
BEGIN:VTIMEZONE
TZID:Europe/Paris
BEGIN:DAYLIGHT
TZOFFSETFROM:+0100
TZOFFSETTO:+0200
TZNAME:CEST
DTSTART:20220327T010000
END:DAYLIGHT
BEGIN:STANDARD
TZOFFSETFROM:+0200
TZOFFSETTO:+0100
TZNAME:CET
DTSTART:20221030T010000
END:STANDARD
END:VTIMEZONE
BEGIN:VEVENT
DTSTART;VALUE=DATE:20220414
DTEND;VALUE=DATE:20220415
DTSTAMP:20260423T082800
CREATED:20220406T210547Z
LAST-MODIFIED:20220406T210547Z
UID:10734-1649894400-1649980799@www.moussy-le-vieux.fr
SUMMARY:Conseil Municipal
DESCRIPTION:à 19 h 00 \nsalle du Conseil à la mairie \n
URL:https://www.moussy-le-vieux.fr/evenement/conseil-municipal-6/
LOCATION:Mairie\, Place Marcel Hatier\, MOUSSY LE VIEUX\, 77230\, France
END:VEVENT
END:VCALENDAR