BEGIN:VCALENDAR
VERSION:2.0
PRODID:-//Site de la commune de Moussy Le Vieux - ECPv5.0.0.2//NONSGML v1.0//EN
CALSCALE:GREGORIAN
METHOD:PUBLISH
X-WR-CALNAME:Site de la commune de Moussy Le Vieux
X-ORIGINAL-URL:https://www.moussy-le-vieux.fr
X-WR-CALDESC:Évènements pour Site de la commune de Moussy Le Vieux
BEGIN:VTIMEZONE
TZID:Europe/Paris
BEGIN:DAYLIGHT
TZOFFSETFROM:+0100
TZOFFSETTO:+0200
TZNAME:CEST
DTSTART:20210328T010000
END:DAYLIGHT
BEGIN:STANDARD
TZOFFSETFROM:+0200
TZOFFSETTO:+0100
TZNAME:CET
DTSTART:20211031T010000
END:STANDARD
END:VTIMEZONE
BEGIN:VEVENT
DTSTART;VALUE=DATE:20210924
DTEND;VALUE=DATE:20210925
DTSTAMP:20260423T105227
CREATED:20210826T153731Z
LAST-MODIFIED:20210908T101314Z
UID:8506-1632441600-1632527999@www.moussy-le-vieux.fr
SUMMARY:Fête des Voisins
DESCRIPTION:La Fête des Voisins marque son grand retour \nle vendredi 24 septembre 2021. \nImaginée dans les années 1990 par Atanase Périfan\, un habitant du XVIIe arrondissement de Paris\, suite au décès d’une personne âgée dans son immeuble et dont le corps fut découvert 4 mois plus tard. \nSi vous souhaitez organiser une fête des Voisins dans votre quartier \nvous trouverez toutes les infos et conseils pour l’organisation sur : \nhttps://www.lafetedesvoisins.fr/ \n
URL:https://www.moussy-le-vieux.fr/evenement/fete-des-voisins/
END:VEVENT
END:VCALENDAR