BEGIN:VCALENDAR
VERSION:2.0
PRODID:-//Site de la commune de Moussy Le Vieux - ECPv5.0.0.2//NONSGML v1.0//EN
CALSCALE:GREGORIAN
METHOD:PUBLISH
X-WR-CALNAME:Site de la commune de Moussy Le Vieux
X-ORIGINAL-URL:https://www.moussy-le-vieux.fr
X-WR-CALDESC:Évènements pour Site de la commune de Moussy Le Vieux
BEGIN:VTIMEZONE
TZID:Europe/Paris
BEGIN:DAYLIGHT
TZOFFSETFROM:+0100
TZOFFSETTO:+0200
TZNAME:CEST
DTSTART:20220327T010000
END:DAYLIGHT
BEGIN:STANDARD
TZOFFSETFROM:+0200
TZOFFSETTO:+0100
TZNAME:CET
DTSTART:20221030T010000
END:STANDARD
END:VTIMEZONE
BEGIN:VEVENT
DTSTART;VALUE=DATE:20221217
DTEND;VALUE=DATE:20221218
DTSTAMP:20260422T102839
CREATED:20221021T022207Z
LAST-MODIFIED:20221021T022207Z
UID:12241-1671235200-1671321599@www.moussy-le-vieux.fr
SUMMARY:Initiation aux arts du cirque
DESCRIPTION:Pour les enfants jusqu’à 11 ans \nSalle Lagrange de 14h à 17h \n
URL:https://www.moussy-le-vieux.fr/evenement/initiation-aux-arts-du-cirque/
LOCATION:Salle la grange\, chemin des vignettes\, MOUSSY LE VIEUX\, 77230\, France
END:VEVENT
END:VCALENDAR