BEGIN:VCALENDAR
VERSION:2.0
PRODID:-//Site de la commune de Moussy Le Vieux - ECPv5.0.0.2//NONSGML v1.0//EN
CALSCALE:GREGORIAN
METHOD:PUBLISH
X-WR-CALNAME:Site de la commune de Moussy Le Vieux
X-ORIGINAL-URL:https://www.moussy-le-vieux.fr
X-WR-CALDESC:Évènements pour Site de la commune de Moussy Le Vieux
BEGIN:VTIMEZONE
TZID:Europe/Paris
BEGIN:DAYLIGHT
TZOFFSETFROM:+0100
TZOFFSETTO:+0200
TZNAME:CEST
DTSTART:20260329T010000
END:DAYLIGHT
BEGIN:STANDARD
TZOFFSETFROM:+0200
TZOFFSETTO:+0100
TZNAME:CET
DTSTART:20261025T010000
END:STANDARD
END:VTIMEZONE
BEGIN:VEVENT
DTSTART;VALUE=DATE:20260428
DTEND;VALUE=DATE:20260429
DTSTAMP:20260422T133623
CREATED:20260420T154935Z
LAST-MODIFIED:20260420T154935Z
UID:20156-1777334400-1777420799@www.moussy-le-vieux.fr
SUMMARY:Retransmission match Ligue des Champions
DESCRIPTION:à partir de 20h00 \n
URL:https://www.moussy-le-vieux.fr/evenement/retransmission-match-ligue-des-champions/
LOCATION:Boulangerie Moussy le Vieux
END:VEVENT
END:VCALENDAR